BEGIN:VCALENDAR
VERSION:2.0
PRODID:-//Valderøykvartetten - ECPv6.15.20//NONSGML v1.0//EN
CALSCALE:GREGORIAN
METHOD:PUBLISH
X-WR-CALNAME:Valderøykvartetten
X-ORIGINAL-URL:https://valderoykvartetten.com
X-WR-CALDESC:Arrangement for Valderøykvartetten
REFRESH-INTERVAL;VALUE=DURATION:PT1H
X-Robots-Tag:noindex
X-PUBLISHED-TTL:PT1H
BEGIN:VTIMEZONE
TZID:Europe/Oslo
BEGIN:DAYLIGHT
TZOFFSETFROM:+0100
TZOFFSETTO:+0200
TZNAME:CEST
DTSTART:20250330T010000
END:DAYLIGHT
BEGIN:STANDARD
TZOFFSETFROM:+0200
TZOFFSETTO:+0100
TZNAME:CET
DTSTART:20251026T010000
END:STANDARD
BEGIN:DAYLIGHT
TZOFFSETFROM:+0100
TZOFFSETTO:+0200
TZNAME:CEST
DTSTART:20260329T010000
END:DAYLIGHT
BEGIN:STANDARD
TZOFFSETFROM:+0200
TZOFFSETTO:+0100
TZNAME:CET
DTSTART:20261025T010000
END:STANDARD
BEGIN:DAYLIGHT
TZOFFSETFROM:+0100
TZOFFSETTO:+0200
TZNAME:CEST
DTSTART:20270328T010000
END:DAYLIGHT
BEGIN:STANDARD
TZOFFSETFROM:+0200
TZOFFSETTO:+0100
TZNAME:CET
DTSTART:20271031T010000
END:STANDARD
END:VTIMEZONE
BEGIN:VEVENT
DTSTART;VALUE=DATE:20260723
DTEND;VALUE=DATE:20260727
DTSTAMP:20260424T162344
CREATED:20260126T174947Z
LAST-MODIFIED:20260329T185542Z
UID:1553-1784764800-1785110399@valderoykvartetten.com
SUMMARY:Ordet & Israels - nasjonalt sommerstevne i Grimstad
DESCRIPTION:Vi deltar på årets sommerstevne i Grimstad. Se hjemmesiden til Ordet & Israel for mer info.
URL:https://valderoykvartetten.com/arrangement/ordet-israels-sommerstevne-i-grimstad/
LOCATION:Bibelskolen i Grimstad\, Østerhusmonen 81\, Grimstad\, 4879
ATTACH;FMTTYPE=image/jpeg:https://valderoykvartetten.com/wp-content/uploads/2026/01/Ordet-og-Israel-scaled.jpg
END:VEVENT
END:VCALENDAR